BEGIN:VCALENDAR
VERSION:2.0
PRODID:-//Bangor and District Practical Rifle and Pistol Club - ECPv6.15.14//NONSGML v1.0//EN
CALSCALE:GREGORIAN
METHOD:PUBLISH
X-WR-CALNAME:Bangor and District Practical Rifle and Pistol Club
X-ORIGINAL-URL:https://bdprpc.org.uk
X-WR-CALDESC:Events for Bangor and District Practical Rifle and Pistol Club
REFRESH-INTERVAL;VALUE=DURATION:PT1H
X-Robots-Tag:noindex
X-PUBLISHED-TTL:PT1H
BEGIN:VTIMEZONE
TZID:Europe/London
BEGIN:DAYLIGHT
TZOFFSETFROM:+0000
TZOFFSETTO:+0100
TZNAME:BST
DTSTART:20230326T010000
END:DAYLIGHT
BEGIN:STANDARD
TZOFFSETFROM:+0100
TZOFFSETTO:+0000
TZNAME:GMT
DTSTART:20231029T010000
END:STANDARD
BEGIN:DAYLIGHT
TZOFFSETFROM:+0000
TZOFFSETTO:+0100
TZNAME:BST
DTSTART:20240331T010000
END:DAYLIGHT
BEGIN:STANDARD
TZOFFSETFROM:+0100
TZOFFSETTO:+0000
TZNAME:GMT
DTSTART:20241027T010000
END:STANDARD
BEGIN:DAYLIGHT
TZOFFSETFROM:+0000
TZOFFSETTO:+0100
TZNAME:BST
DTSTART:20250330T010000
END:DAYLIGHT
BEGIN:STANDARD
TZOFFSETFROM:+0100
TZOFFSETTO:+0000
TZNAME:GMT
DTSTART:20251026T010000
END:STANDARD
END:VTIMEZONE
BEGIN:VEVENT
DTSTART;VALUE=DATE:20240804
DTEND;VALUE=DATE:20240805
DTSTAMP:20260423T071513
CREATED:20231218T094001Z
LAST-MODIFIED:20231218T094001Z
UID:2436-1722729600-1722815999@bdprpc.org.uk
SUMMARY:Work Party
DESCRIPTION:Work Party
URL:https://bdprpc.org.uk/event/work-party-11/
CATEGORIES:General
END:VEVENT
BEGIN:VEVENT
DTSTART;TZID=Europe/London:20240818T080000
DTEND;TZID=Europe/London:20240818T140000
DTSTAMP:20260423T071513
CREATED:20240805T151028Z
LAST-MODIFIED:20240805T151028Z
UID:2761-1723968000-1723989600@bdprpc.org.uk
SUMMARY:Range A closed from 8 a.m. to 2 p.m.
DESCRIPTION:Range A closed from 8 a.m. to 2 p.m. 18/8/2024
URL:https://bdprpc.org.uk/event/range-a-closed-from-8-a-m-to-2-p-m/
CATEGORIES:General
END:VEVENT
END:VCALENDAR